BEGIN:VCALENDAR
VERSION:2.0
PRODID:-//Unit 6131 - Lawton OK Branch of the NAACP - ECPv6.15.1.1//NONSGML v1.0//EN
CALSCALE:GREGORIAN
METHOD:PUBLISH
X-ORIGINAL-URL:https://lawtonnaacp.org
X-WR-CALDESC:Events for Unit 6131 - Lawton OK Branch of the NAACP
REFRESH-INTERVAL;VALUE=DURATION:PT1H
X-Robots-Tag:noindex
X-PUBLISHED-TTL:PT1H
BEGIN:VTIMEZONE
TZID:America/New_York
BEGIN:DAYLIGHT
TZOFFSETFROM:-0500
TZOFFSETTO:-0400
TZNAME:EDT
DTSTART:20230312T070000
END:DAYLIGHT
BEGIN:STANDARD
TZOFFSETFROM:-0400
TZOFFSETTO:-0500
TZNAME:EST
DTSTART:20231105T060000
END:STANDARD
END:VTIMEZONE
BEGIN:VEVENT
DTSTART;TZID=America/New_York:20231211T180000
DTEND;TZID=America/New_York:20231211T190000
DTSTAMP:20260422T070909
CREATED:20230121T124221Z
LAST-MODIFIED:20230201T040245Z
UID:295-1702317600-1702321200@lawtonnaacp.org
SUMMARY:Executive Committee Meeting
DESCRIPTION:Unit Officers and Executive Committee: \nIn-person meetings at the Lawton OK Branch NAACP office building have resumed for the 2023 calendar year.  \nRequired entry information for anyone planning to attend meetings:\n1). Must present proof of at least 2-COVID vaccines;\n2). Mask is required;\n3). Temperature checks will be done at the door. \nIf you are a member\, we look forward to your participation in these meetings in accordance with by-laws for units of the NAACP. \nShould you have questions regarding these meetings\, please call Delores S. Raphel\, Branch Secretary.
URL:https://lawtonnaacp.org/event/executive-board-meeting-13/
LOCATION:Branch Office\, 1512 SW Washington Ave.\, Lawton\, OK\, 73501\, United States
END:VEVENT
BEGIN:VEVENT
DTSTART;TZID=America/New_York:20231216T160000
DTEND;TZID=America/New_York:20231216T180000
DTSTAMP:20260422T070909
CREATED:20230121T121534Z
LAST-MODIFIED:20230121T121534Z
UID:227-1702742400-1702749600@lawtonnaacp.org
SUMMARY:General Membership Meeting
DESCRIPTION:Unit Officers\, Executive Committee\, and Members: \nIn-person meetings at the Lawton OK Branch NAACP office building have resumed for the 2023 calendar year.  \nRequired entry information for anyone planning to attend meetings:\n1). Must present proof of at least 2-COVID vaccines;\n2). Mask is required;\n3). Temperature checks will be done at the door. \nIf you are member\, we look forward to your participation in these meetings in accordance with by-laws for units of the NAACP. \nShould you have questions regarding these meetings\, please call Delores S. Raphel\, Branch Secretary.
URL:https://lawtonnaacp.org/event/general-membership-meeting-10/
LOCATION:Branch Office\, 1512 SW Washington Ave.\, Lawton\, OK\, 73501\, United States
END:VEVENT
BEGIN:VEVENT
DTSTART;TZID=America/New_York:20231216T160000
DTEND;TZID=America/New_York:20231216T180000
DTSTAMP:20260422T070909
CREATED:20250906T004925Z
LAST-MODIFIED:20250906T004925Z
UID:380-1702742400-1702749600@lawtonnaacp.org
SUMMARY:General Membership Meeting Copy
DESCRIPTION:Unit Officers\, Executive Committee\, and Members: \nIn-person meetings at the Lawton OK Branch NAACP office building have resumed for the 2023 calendar year.  \nRequired entry information for anyone planning to attend meetings:\n1). Must present proof of at least 2-COVID vaccines;\n2). Mask is required;\n3). Temperature checks will be done at the door. \nIf you are member\, we look forward to your participation in these meetings in accordance with by-laws for units of the NAACP. \nShould you have questions regarding these meetings\, please call Delores S. Raphel\, Branch Secretary.
URL:https://lawtonnaacp.org/event/general-membership-meeting-10-2/
LOCATION:Branch Office\, 1512 SW Washington Ave.\, Lawton\, OK\, 73501\, United States
END:VEVENT
END:VCALENDAR