BEGIN:VCALENDAR
VERSION:2.0
PRODID:-//Unit 6131 - Lawton OK Branch of the NAACP - ECPv6.15.1.1//NONSGML v1.0//EN
CALSCALE:GREGORIAN
METHOD:PUBLISH
X-ORIGINAL-URL:https://lawtonnaacp.org
X-WR-CALDESC:Events for Unit 6131 - Lawton OK Branch of the NAACP
REFRESH-INTERVAL;VALUE=DURATION:PT1H
X-Robots-Tag:noindex
X-PUBLISHED-TTL:PT1H
BEGIN:VTIMEZONE
TZID:America/New_York
BEGIN:DAYLIGHT
TZOFFSETFROM:-0500
TZOFFSETTO:-0400
TZNAME:EDT
DTSTART:20230312T070000
END:DAYLIGHT
BEGIN:STANDARD
TZOFFSETFROM:-0400
TZOFFSETTO:-0500
TZNAME:EST
DTSTART:20231105T060000
END:STANDARD
END:VTIMEZONE
BEGIN:VEVENT
DTSTART;VALUE=DATE:20230726
DTEND;VALUE=DATE:20230802
DTSTAMP:20260423T093809
CREATED:20230121T124603Z
LAST-MODIFIED:20230121T124603Z
UID:298-1690329600-1690934399@lawtonnaacp.org
SUMMARY:114th NAACP National Convention
DESCRIPTION:
URL:https://lawtonnaacp.org/event/114th-naacp-national-convention/
LOCATION:Convention Center\, Boston\, MA
END:VEVENT
BEGIN:VEVENT
DTSTART;TZID=America/New_York:20230821T180000
DTEND;TZID=America/New_York:20230821T180000
DTSTAMP:20260423T093809
CREATED:20230121T123951Z
LAST-MODIFIED:20230201T035957Z
UID:284-1692640800-1692640800@lawtonnaacp.org
SUMMARY:Executive Committee Meeting
DESCRIPTION:Unit Officers and Executive Committee: \nIn-person meetings at the Lawton OK Branch NAACP office building have resumed for the 2023 calendar year.  \nRequired entry information for anyone planning to attend meetings:\n1). Must present proof of at least 2-COVID vaccines;\n2). Mask is required;\n3). Temperature checks will be done at the door. \nIf you are a member\, we look forward to your participation in these meetings in accordance with by-laws for units of the NAACP. \nShould you have questions regarding these meetings\, please call Delores S. Raphel\, Branch Secretary.
URL:https://lawtonnaacp.org/event/executive-board-meeting-9/
LOCATION:Branch Office\, 1512 SW Washington Ave.\, Lawton\, OK\, 73501\, United States
END:VEVENT
BEGIN:VEVENT
DTSTART;TZID=America/New_York:20230826T160000
DTEND;TZID=America/New_York:20230826T180000
DTSTAMP:20260423T093809
CREATED:20230121T121233Z
LAST-MODIFIED:20230121T121233Z
UID:216-1693065600-1693072800@lawtonnaacp.org
SUMMARY:General Membership Meeting
DESCRIPTION:Unit Officers\, Executive Committee\, and Members: \nIn-person meetings at the Lawton OK Branch NAACP office building have resumed for the 2023 calendar year.  \nRequired entry information for anyone planning to attend meetings:\n1). Must present proof of at least 2-COVID vaccines;\n2). Mask is required;\n3). Temperature checks will be done at the door. \nIf you are member\, we look forward to your participation in these meetings in accordance with by-laws for units of the NAACP. \nShould you have questions regarding these meetings\, please call Delores S. Raphel\, Branch Secretary.
URL:https://lawtonnaacp.org/event/general-membership-meeting-6/
LOCATION:Branch Office\, 1512 SW Washington Ave.\, Lawton\, OK\, 73501\, United States
END:VEVENT
END:VCALENDAR