BEGIN:VCALENDAR
VERSION:2.0
PRODID:-//Unit 6131 - Lawton OK Branch of the NAACP - ECPv6.15.1.1//NONSGML v1.0//EN
CALSCALE:GREGORIAN
METHOD:PUBLISH
X-ORIGINAL-URL:https://lawtonnaacp.org
X-WR-CALDESC:Events for Unit 6131 - Lawton OK Branch of the NAACP
REFRESH-INTERVAL;VALUE=DURATION:PT1H
X-Robots-Tag:noindex
X-PUBLISHED-TTL:PT1H
BEGIN:VTIMEZONE
TZID:America/New_York
BEGIN:DAYLIGHT
TZOFFSETFROM:-0500
TZOFFSETTO:-0400
TZNAME:EDT
DTSTART:20230312T070000
END:DAYLIGHT
BEGIN:STANDARD
TZOFFSETFROM:-0400
TZOFFSETTO:-0500
TZNAME:EST
DTSTART:20231105T060000
END:STANDARD
END:VTIMEZONE
BEGIN:VEVENT
DTSTART;TZID=America/New_York:20230320T180000
DTEND;TZID=America/New_York:20230320T180000
DTSTAMP:20260424T020407
CREATED:20230121T123545Z
LAST-MODIFIED:20230201T035648Z
UID:269-1679335200-1679335200@lawtonnaacp.org
SUMMARY:Executive Committee Meeting
DESCRIPTION:Unit Officers and Executive Committee: \nIn-person meetings at the Lawton OK Branch NAACP office building have resumed for the 2023 calendar year.  \nRequired entry information for anyone planning to attend meetings:\n1). Must present proof of at least 2-COVID vaccines;\n2). Mask is required;\n3). Temperature checks will be done at the door. \nIf you are a member\, we look forward to your participation in these meetings in accordance with by-laws for units of the NAACP. \nShould you have questions regarding these meetings\, please call Delores S. Raphel\, Branch Secretary.
URL:https://lawtonnaacp.org/event/executive-board-meeting-4/
LOCATION:Branch Office\, 1512 SW Washington Ave.\, Lawton\, OK\, 73501\, United States
END:VEVENT
BEGIN:VEVENT
DTSTART;VALUE=DATE:20230324
DTEND;VALUE=DATE:20230327
DTSTAMP:20260424T020407
CREATED:20230121T123137Z
LAST-MODIFIED:20230121T123137Z
UID:259-1679616000-1679875199@lawtonnaacp.org
SUMMARY:The Medgar Evers Civil Rights Advocacy Training Institute
DESCRIPTION:The Medgar Evers Civil Rights Advocacy Training Institute is back! The annual Leadership Training Conference is designed to empower youth and adult leaders to become more adept in carrying out the civil rights advocacy responsibilities of NAACP units. This year we will offer four opportunities for you to choose from: \nNew Orleans\, LA: March 24th-26th\nSan Francisco\, CA: March 31st-April 2nd\nLouisville\, KY: April 14th-16th\nBaltimore\, MD: April 21st-23rd \nThe 2023 CRATIs are NOT regionally based. Members are allowed to choose from any of the four in-person training to attend. There will be sessions for Adult & Youth Leaders. More information about registration and housing will be provided soon!
URL:https://lawtonnaacp.org/event/the-medgar-evers-civil-rights-advocacy-training-institute/
END:VEVENT
BEGIN:VEVENT
DTSTART;TZID=America/New_York:20230325T160000
DTEND;TZID=America/New_York:20230325T180000
DTSTAMP:20260424T020407
CREATED:20230121T120701Z
LAST-MODIFIED:20230121T120710Z
UID:199-1679760000-1679767200@lawtonnaacp.org
SUMMARY:General Membership Meeting
DESCRIPTION:Unit Officers\, Executive Committee\, and Members: \nIn-person meetings at the Lawton OK Branch NAACP office building have resumed for the 2023 calendar year.  \nRequired entry information for anyone planning to attend meetings:\n1). Must present proof of at least 2-COVID vaccines;\n2). Mask is required;\n3). Temperature checks will be done at the door. \nIf you are member\, we look forward to your participation in these meetings in accordance with by-laws for units of the NAACP. \nShould you have questions regarding these meetings\, please call Delores S. Raphel\, Branch Secretary.
URL:https://lawtonnaacp.org/event/199/
LOCATION:Branch Office\, 1512 SW Washington Ave.\, Lawton\, OK\, 73501\, United States
END:VEVENT
BEGIN:VEVENT
DTSTART;VALUE=DATE:20230331
DTEND;VALUE=DATE:20230403
DTSTAMP:20260424T020407
CREATED:20230121T123223Z
LAST-MODIFIED:20230121T123223Z
UID:263-1680220800-1680479999@lawtonnaacp.org
SUMMARY:The Medgar Evers Civil Rights Advocacy Training Institute
DESCRIPTION:The Medgar Evers Civil Rights Advocacy Training Institute is back! The annual Leadership Training Conference is designed to empower youth and adult leaders to become more adept in carrying out the civil rights advocacy responsibilities of NAACP units. This year we will offer four opportunities for you to choose from: \nNew Orleans\, LA: March 24th-26th\nSan Francisco\, CA: March 31st-April 2nd\nLouisville\, KY: April 14th-16th\nBaltimore\, MD: April 21st-23rd \nThe 2023 CRATIs are NOT regionally based. Members are allowed to choose from any of the four in-person training to attend. There will be sessions for Adult & Youth Leaders. More information about registration and housing will be provided soon!
URL:https://lawtonnaacp.org/event/the-medgar-evers-civil-rights-advocacy-training-institute-2/
END:VEVENT
END:VCALENDAR