BEGIN:VCALENDAR
VERSION:2.0
PRODID:-//Unit 6131 - Lawton OK Branch of the NAACP - ECPv6.15.1.1//NONSGML v1.0//EN
CALSCALE:GREGORIAN
METHOD:PUBLISH
X-WR-CALNAME:Unit 6131 - Lawton OK Branch of the NAACP
X-ORIGINAL-URL:https://lawtonnaacp.org
X-WR-CALDESC:Events for Unit 6131 - Lawton OK Branch of the NAACP
REFRESH-INTERVAL;VALUE=DURATION:PT1H
X-Robots-Tag:noindex
X-PUBLISHED-TTL:PT1H
BEGIN:VTIMEZONE
TZID:America/Detroit
BEGIN:DAYLIGHT
TZOFFSETFROM:-0500
TZOFFSETTO:-0400
TZNAME:EDT
DTSTART:20220313T070000
END:DAYLIGHT
BEGIN:STANDARD
TZOFFSETFROM:-0400
TZOFFSETTO:-0500
TZNAME:EST
DTSTART:20221106T060000
END:STANDARD
END:VTIMEZONE
BEGIN:VEVENT
DTSTART;TZID=America/Detroit:20220212T120000
DTEND;TZID=America/Detroit:20220212T130000
DTSTAMP:20260424T003203
CREATED:20220209T035118Z
LAST-MODIFIED:20220209T035351Z
UID:106-1644667200-1644670800@lawtonnaacp.org
SUMMARY:Founders Day Program
DESCRIPTION:This year’s Founders Day Program will be held virtually on Facebook Live.\nGo to our Facebook page at https://www.facebook.com/LawtonOKNAACP
URL:https://lawtonnaacp.org/event/founders-day-program/
ATTACH;FMTTYPE=image/jpeg:https://lawtonnaacp.org/wp-content/uploads/2022/02/NAACP-Founders-Day-2022-Flyer-1.jpg
END:VEVENT
END:VCALENDAR