BEGIN:VCALENDAR
VERSION:2.0
PRODID:-//Unit 6131 - Lawton OK Branch of the NAACP - ECPv6.15.1.1//NONSGML v1.0//EN
CALSCALE:GREGORIAN
METHOD:PUBLISH
X-WR-CALNAME:Unit 6131 - Lawton OK Branch of the NAACP
X-ORIGINAL-URL:https://lawtonnaacp.org
X-WR-CALDESC:Events for Unit 6131 - Lawton OK Branch of the NAACP
REFRESH-INTERVAL;VALUE=DURATION:PT1H
X-Robots-Tag:noindex
X-PUBLISHED-TTL:PT1H
BEGIN:VTIMEZONE
TZID:America/New_York
BEGIN:DAYLIGHT
TZOFFSETFROM:-0500
TZOFFSETTO:-0400
TZNAME:EDT
DTSTART:20230312T070000
END:DAYLIGHT
BEGIN:STANDARD
TZOFFSETFROM:-0400
TZOFFSETTO:-0500
TZNAME:EST
DTSTART:20231105T060000
END:STANDARD
BEGIN:DAYLIGHT
TZOFFSETFROM:-0500
TZOFFSETTO:-0400
TZNAME:EDT
DTSTART:20240310T070000
END:DAYLIGHT
BEGIN:STANDARD
TZOFFSETFROM:-0400
TZOFFSETTO:-0500
TZNAME:EST
DTSTART:20241103T060000
END:STANDARD
BEGIN:DAYLIGHT
TZOFFSETFROM:-0500
TZOFFSETTO:-0400
TZNAME:EDT
DTSTART:20250309T070000
END:DAYLIGHT
BEGIN:STANDARD
TZOFFSETFROM:-0400
TZOFFSETTO:-0500
TZNAME:EST
DTSTART:20251102T060000
END:STANDARD
END:VTIMEZONE
BEGIN:VEVENT
DTSTART;TZID=America/New_York:20231021T180000
DTEND;TZID=America/New_York:20231021T180000
DTSTAMP:20260423T034721
CREATED:20230121T122901Z
LAST-MODIFIED:20230121T122901Z
UID:256-1697911200-1697911200@lawtonnaacp.org
SUMMARY:NAACP Freedom Fund Banquet
DESCRIPTION:6pm–Saturday\, October 21\, 2023\, NAACP Freedom Fund Banquet\, TBA
URL:https://lawtonnaacp.org/event/naacp-freedom-fund-banquet/
END:VEVENT
BEGIN:VEVENT
DTSTART;TZID=America/New_York:20231023T180000
DTEND;TZID=America/New_York:20231023T180000
DTSTAMP:20260423T034721
CREATED:20230121T124056Z
LAST-MODIFIED:20230201T040104Z
UID:290-1698084000-1698084000@lawtonnaacp.org
SUMMARY:Executive Committee Meeting
DESCRIPTION:Unit Officers and Executive Committee: \nIn-person meetings at the Lawton OK Branch NAACP office building have resumed for the 2023 calendar year.  \nRequired entry information for anyone planning to attend meetings:\n1). Must present proof of at least 2-COVID vaccines;\n2). Mask is required;\n3). Temperature checks will be done at the door. \nIf you are a member\, we look forward to your participation in these meetings in accordance with by-laws for units of the NAACP. \nShould you have questions regarding these meetings\, please call Delores S. Raphel\, Branch Secretary.
URL:https://lawtonnaacp.org/event/executive-board-meeting-11/
LOCATION:Branch Office\, 1512 SW Washington Ave.\, Lawton\, OK\, 73501\, United States
END:VEVENT
BEGIN:VEVENT
DTSTART;TZID=America/New_York:20231028T160000
DTEND;TZID=America/New_York:20231028T180000
DTSTAMP:20260423T034721
CREATED:20230121T121409Z
LAST-MODIFIED:20230121T121409Z
UID:221-1698508800-1698516000@lawtonnaacp.org
SUMMARY:General Membership Meeting
DESCRIPTION:Unit Officers\, Executive Committee\, and Members: \nIn-person meetings at the Lawton OK Branch NAACP office building have resumed for the 2023 calendar year.  \nRequired entry information for anyone planning to attend meetings:\n1). Must present proof of at least 2-COVID vaccines;\n2). Mask is required;\n3). Temperature checks will be done at the door. \nIf you are member\, we look forward to your participation in these meetings in accordance with by-laws for units of the NAACP. \nShould you have questions regarding these meetings\, please call Delores S. Raphel\, Branch Secretary.
URL:https://lawtonnaacp.org/event/general-membership-meeting-8/
LOCATION:Branch Office\, 1512 SW Washington Ave.\, Lawton\, OK\, 73501\, United States
END:VEVENT
BEGIN:VEVENT
DTSTART;TZID=America/New_York:20231120T180000
DTEND;TZID=America/New_York:20231120T180000
DTSTAMP:20260423T034721
CREATED:20230121T124145Z
LAST-MODIFIED:20230201T040152Z
UID:293-1700503200-1700503200@lawtonnaacp.org
SUMMARY:Executive Committee Meeting
DESCRIPTION:Unit Officers and Executive Committee: \nIn-person meetings at the Lawton OK Branch NAACP office building have resumed for the 2023 calendar year.  \nRequired entry information for anyone planning to attend meetings:\n1). Must present proof of at least 2-COVID vaccines;\n2). Mask is required;\n3). Temperature checks will be done at the door. \nIf you are a member\, we look forward to your participation in these meetings in accordance with by-laws for units of the NAACP. \nShould you have questions regarding these meetings\, please call Delores S. Raphel\, Branch Secretary.
URL:https://lawtonnaacp.org/event/executive-board-meeting-12/
LOCATION:Branch Office\, 1512 SW Washington Ave.\, Lawton\, OK\, 73501\, United States
END:VEVENT
BEGIN:VEVENT
DTSTART;TZID=America/New_York:20231125T160000
DTEND;TZID=America/New_York:20231125T180000
DTSTAMP:20260423T034721
CREATED:20230121T121453Z
LAST-MODIFIED:20230121T121453Z
UID:224-1700928000-1700935200@lawtonnaacp.org
SUMMARY:General Membership Meeting
DESCRIPTION:Unit Officers\, Executive Committee\, and Members: \nIn-person meetings at the Lawton OK Branch NAACP office building have resumed for the 2023 calendar year.  \nRequired entry information for anyone planning to attend meetings:\n1). Must present proof of at least 2-COVID vaccines;\n2). Mask is required;\n3). Temperature checks will be done at the door. \nIf you are member\, we look forward to your participation in these meetings in accordance with by-laws for units of the NAACP. \nShould you have questions regarding these meetings\, please call Delores S. Raphel\, Branch Secretary.
URL:https://lawtonnaacp.org/event/general-membership-meeting-9/
LOCATION:Branch Office\, 1512 SW Washington Ave.\, Lawton\, OK\, 73501\, United States
END:VEVENT
BEGIN:VEVENT
DTSTART;TZID=America/New_York:20231211T180000
DTEND;TZID=America/New_York:20231211T190000
DTSTAMP:20260423T034721
CREATED:20230121T124221Z
LAST-MODIFIED:20230201T040245Z
UID:295-1702317600-1702321200@lawtonnaacp.org
SUMMARY:Executive Committee Meeting
DESCRIPTION:Unit Officers and Executive Committee: \nIn-person meetings at the Lawton OK Branch NAACP office building have resumed for the 2023 calendar year.  \nRequired entry information for anyone planning to attend meetings:\n1). Must present proof of at least 2-COVID vaccines;\n2). Mask is required;\n3). Temperature checks will be done at the door. \nIf you are a member\, we look forward to your participation in these meetings in accordance with by-laws for units of the NAACP. \nShould you have questions regarding these meetings\, please call Delores S. Raphel\, Branch Secretary.
URL:https://lawtonnaacp.org/event/executive-board-meeting-13/
LOCATION:Branch Office\, 1512 SW Washington Ave.\, Lawton\, OK\, 73501\, United States
END:VEVENT
BEGIN:VEVENT
DTSTART;TZID=America/New_York:20231216T160000
DTEND;TZID=America/New_York:20231216T180000
DTSTAMP:20260423T034721
CREATED:20230121T121534Z
LAST-MODIFIED:20230121T121534Z
UID:227-1702742400-1702749600@lawtonnaacp.org
SUMMARY:General Membership Meeting
DESCRIPTION:Unit Officers\, Executive Committee\, and Members: \nIn-person meetings at the Lawton OK Branch NAACP office building have resumed for the 2023 calendar year.  \nRequired entry information for anyone planning to attend meetings:\n1). Must present proof of at least 2-COVID vaccines;\n2). Mask is required;\n3). Temperature checks will be done at the door. \nIf you are member\, we look forward to your participation in these meetings in accordance with by-laws for units of the NAACP. \nShould you have questions regarding these meetings\, please call Delores S. Raphel\, Branch Secretary.
URL:https://lawtonnaacp.org/event/general-membership-meeting-10/
LOCATION:Branch Office\, 1512 SW Washington Ave.\, Lawton\, OK\, 73501\, United States
END:VEVENT
BEGIN:VEVENT
DTSTART;TZID=America/New_York:20231216T160000
DTEND;TZID=America/New_York:20231216T180000
DTSTAMP:20260423T034721
CREATED:20250906T004925Z
LAST-MODIFIED:20250906T004925Z
UID:380-1702742400-1702749600@lawtonnaacp.org
SUMMARY:General Membership Meeting Copy
DESCRIPTION:Unit Officers\, Executive Committee\, and Members: \nIn-person meetings at the Lawton OK Branch NAACP office building have resumed for the 2023 calendar year.  \nRequired entry information for anyone planning to attend meetings:\n1). Must present proof of at least 2-COVID vaccines;\n2). Mask is required;\n3). Temperature checks will be done at the door. \nIf you are member\, we look forward to your participation in these meetings in accordance with by-laws for units of the NAACP. \nShould you have questions regarding these meetings\, please call Delores S. Raphel\, Branch Secretary.
URL:https://lawtonnaacp.org/event/general-membership-meeting-10-2/
LOCATION:Branch Office\, 1512 SW Washington Ave.\, Lawton\, OK\, 73501\, United States
END:VEVENT
BEGIN:VEVENT
DTSTART;TZID=America/New_York:20240925T080000
DTEND;TZID=America/New_York:20240925T170000
DTSTAMP:20260423T034721
CREATED:20240901T171139Z
LAST-MODIFIED:20240925T171756Z
UID:363-1727251200-1727283600@lawtonnaacp.org
SUMMARY:Election of Nominating Committee
DESCRIPTION:NAACP Office Bldg.\, the election of Nominating Committee. All members whose memberships are current 30-days prior to the meeting date may be elected to the Nominating Committee.
URL:https://lawtonnaacp.org/event/election-of-nominating-committee/
END:VEVENT
BEGIN:VEVENT
DTSTART;TZID=America/New_York:20241207T130000
DTEND;TZID=America/New_York:20241207T140000
DTSTAMP:20260423T034721
CREATED:20240925T170521Z
LAST-MODIFIED:20240925T170521Z
UID:350-1733576400-1733580000@lawtonnaacp.org
SUMMARY:Quilt of Valor
DESCRIPTION:
URL:https://lawtonnaacp.org/event/quilt-of-valor/
LOCATION:Patterson Center\, Lawton\, OK\, United States
END:VEVENT
BEGIN:VEVENT
DTSTART;VALUE=DATE:20250112
DTEND;VALUE=DATE:20250113
DTSTAMP:20260423T034721
CREATED:20240925T170908Z
LAST-MODIFIED:20240925T170908Z
UID:354-1736640000-1736726399@lawtonnaacp.org
SUMMARY:Jubilee Day
DESCRIPTION:
URL:https://lawtonnaacp.org/event/jubilee-day-2/
END:VEVENT
BEGIN:VEVENT
DTSTART;TZID=America/New_York:20250118T073000
DTEND;TZID=America/New_York:20250118T073000
DTSTAMP:20260423T034721
CREATED:20240925T171039Z
LAST-MODIFIED:20240925T171057Z
UID:356-1737185400-1737185400@lawtonnaacp.org
SUMMARY:MLK Prayer Breakfast
DESCRIPTION:Keynote Speaker: Leon W. Russell
URL:https://lawtonnaacp.org/event/mlk-prayer-breakfast/
LOCATION:Hilton Garden Inn\, 135 NW 2nd Street\, Lawton\, OK\, United States
END:VEVENT
BEGIN:VEVENT
DTSTART;VALUE=DATE:20250212
DTEND;VALUE=DATE:20250213
DTSTAMP:20260423T034721
CREATED:20240925T171127Z
LAST-MODIFIED:20240925T171127Z
UID:361-1739318400-1739404799@lawtonnaacp.org
SUMMARY:NAACP Founders Day
DESCRIPTION:
URL:https://lawtonnaacp.org/event/naacp-founders-day/
END:VEVENT
BEGIN:VEVENT
DTSTART;TZID=America/New_York:20251004T180000
DTEND;TZID=America/New_York:20251004T180000
DTSTAMP:20260423T034721
CREATED:20250906T005021Z
LAST-MODIFIED:20250906T105328Z
UID:382-1759600800-1759600800@lawtonnaacp.org
SUMMARY:NAACP Freedom Fund Banquet
DESCRIPTION:Join Us for the 2025 NAACP Freedom Fund Banquet\nThe NAACP proudly invites you to the 2025 Freedom Fund Banquet—an evening of fellowship\, recognition\, and celebration of those who continue to advance democracy\, culture\, and civic engagement in our community. \nFor more than 116 years\, the NAACP has stood as the nation’s oldest civil rights organization\, championing the mission of equality\, freedom\, and justice for all. This special evening will honor individual donors\, activists\, businesses\, churches\, and organizations whose support has been vital in carrying this mission forward. \nWe are honored to feature Senator Dr. George E. Young\, Sr.\, as our special guest speaker this year. Dr. Young served as the Oklahoma State Senator for District 48 from 2018 – 2024. A respected pastor\, author\, and community leader\, Dr. Young brings decades of experience in leadership and advocacy. \n\nSponsorship & Tickets\n\n\nPlatinum Sponsor Table (8 seats) – $1\,000 (includes one full-page ad) \n\n\nGold Sponsor Table (8 seats) – $750 (includes half-page ad) \n\n\nSilver Sponsor Table (8 seats) – $600 \n\n\nIndividual Tickets (advance) – $60 per person \n\n\nIndividual Tickets (at the door) – $65 per person (if seating is available) \n\n\nAll checks should be made payable to NAACP and mailed to: P.O. Box 1134 | Lawton\, OK 73502. \n\nReservations & Contact\nFor advance dinner reservations\, please reach out to: \n\n\nEvent Coordinator: Mrs. Delores Raphel – (580) 536-6913 \n\n\nCOL (Ret) W.D. Scott\, Jr. – (703) 209-4294 \n\n\nMAJ (Ret) John Moore – (580) 248-7619 \n\n\nRev. Ruth M. Holmes – (405) 706-3771 \n\n\nRev. Thomas Perry – (580) 284-3170 \n\n\nTrooper Tony Washington – (580) 284-1654 \n\n\nCSM (Ret) Robert McClain – (580) 695-3508 \n\n\nFor additional details and to download the Dinner Reservation/Ad Form. \n\n✨ We thank you for your continued support and look forward to celebrating with you at this year’s banquet!
URL:https://lawtonnaacp.org/event/naacp-freedom-fund-banquet-2/
END:VEVENT
END:VCALENDAR